BEGIN:VCALENDAR
VERSION:2.0
PRODID:-//San Diego Community Power - ECPv6.15.17.1//NONSGML v1.0//EN
CALSCALE:GREGORIAN
METHOD:PUBLISH
X-WR-CALNAME:San Diego Community Power
X-ORIGINAL-URL:https://sdcommunitypower.org/ar
X-WR-CALDESC:Events for San Diego Community Power
REFRESH-INTERVAL;VALUE=DURATION:PT1H
X-Robots-Tag:noindex
X-PUBLISHED-TTL:PT1H
BEGIN:VTIMEZONE
TZID:America/Los_Angeles
BEGIN:DAYLIGHT
TZOFFSETFROM:-0800
TZOFFSETTO:-0700
TZNAME:PDT
DTSTART:20230312T100000
END:DAYLIGHT
BEGIN:STANDARD
TZOFFSETFROM:-0700
TZOFFSETTO:-0800
TZNAME:PST
DTSTART:20231105T090000
END:STANDARD
BEGIN:DAYLIGHT
TZOFFSETFROM:-0800
TZOFFSETTO:-0700
TZNAME:PDT
DTSTART:20240310T100000
END:DAYLIGHT
BEGIN:STANDARD
TZOFFSETFROM:-0700
TZOFFSETTO:-0800
TZNAME:PST
DTSTART:20241103T090000
END:STANDARD
BEGIN:DAYLIGHT
TZOFFSETFROM:-0800
TZOFFSETTO:-0700
TZNAME:PDT
DTSTART:20250309T100000
END:DAYLIGHT
BEGIN:STANDARD
TZOFFSETFROM:-0700
TZOFFSETTO:-0800
TZNAME:PST
DTSTART:20251102T090000
END:STANDARD
END:VTIMEZONE
BEGIN:VEVENT
DTSTART;TZID=America/Los_Angeles:20240111T173000
DTEND;TZID=America/Los_Angeles:20240111T193000
DTSTAMP:20260420T061615
CREATED:20231221T185756Z
LAST-MODIFIED:20231221T185756Z
UID:7361-1704994200-1705001400@sdcommunitypower.org
SUMMARY:San Diego Community Power Community Advisory Committee Meeting
DESCRIPTION:The purpose of the Community Advisory Committee (CAC) is to advise the SDCP Board of Directors on the operation of its CCA program\, as stated in section 5.10.3 of the agency’s JPA Agreement. Committee members are representatives of the diversity in SDCP’s seven member jurisdictions. The officers for the CAC are Eddie Price as the Chair\, Aida Castañeda as Vice Chair\, and Anna Webb as Secretary. For the remainder of the 2023 calendar year\, the CAC is expected to meet every second Thursday of the month at 5:30 p.m. \nSDCP CAC meetings are generally held in person for the CAC and members of the public.  As a convenience to the public\, SDCP also provides a call-in option and Internet-based option for members of the public to virtually observe and provide public comments at its meetings.  Please note that\, in the event of a technical issue causing a disruption in the call-in option or Internet-based option\, the meeting will continue unless otherwise required by law\, such as when a committee is attending the meeting remotely pursuant to certain provisions of the Brown Act.
URL:https://sdcommunitypower.org/ar/event/san-diego-community-power-community-advisory-committee-meeting-3/
LOCATION:City of San Diego Metropolitan Operations Complex (MOC II) Auditorium\, 9192 Topaz Way\, San Diego\, CA\, 92123\, United States
CATEGORIES:Public Meetings
ATTACH;FMTTYPE=image/jpeg:https://sdcommunitypower.org/wp-content/uploads/2020/12/meeting-notes-banner.jpg
END:VEVENT
END:VCALENDAR