BEGIN:VCALENDAR
VERSION:2.0
PRODID:-//San Diego Community Power - ECPv6.15.17.1//NONSGML v1.0//EN
CALSCALE:GREGORIAN
METHOD:PUBLISH
X-WR-CALNAME:San Diego Community Power
X-ORIGINAL-URL:https://sdcommunitypower.org/ar
X-WR-CALDESC:Events for San Diego Community Power
REFRESH-INTERVAL;VALUE=DURATION:PT1H
X-Robots-Tag:noindex
X-PUBLISHED-TTL:PT1H
BEGIN:VTIMEZONE
TZID:America/Los_Angeles
BEGIN:DAYLIGHT
TZOFFSETFROM:-0800
TZOFFSETTO:-0700
TZNAME:PDT
DTSTART:20220313T100000
END:DAYLIGHT
BEGIN:STANDARD
TZOFFSETFROM:-0700
TZOFFSETTO:-0800
TZNAME:PST
DTSTART:20221106T090000
END:STANDARD
BEGIN:DAYLIGHT
TZOFFSETFROM:-0800
TZOFFSETTO:-0700
TZNAME:PDT
DTSTART:20230312T100000
END:DAYLIGHT
BEGIN:STANDARD
TZOFFSETFROM:-0700
TZOFFSETTO:-0800
TZNAME:PST
DTSTART:20231105T090000
END:STANDARD
BEGIN:DAYLIGHT
TZOFFSETFROM:-0800
TZOFFSETTO:-0700
TZNAME:PDT
DTSTART:20240310T100000
END:DAYLIGHT
BEGIN:STANDARD
TZOFFSETFROM:-0700
TZOFFSETTO:-0800
TZNAME:PST
DTSTART:20241103T090000
END:STANDARD
END:VTIMEZONE
BEGIN:VEVENT
DTSTART;TZID=America/Los_Angeles:20231014T090000
DTEND;TZID=America/Los_Angeles:20231014T120000
DTSTAMP:20260421T011929
CREATED:20231011T181243Z
LAST-MODIFIED:20231011T181243Z
UID:6819-1697274000-1697284800@sdcommunitypower.org
SUMMARY:Clean Air Congreso
DESCRIPTION:
URL:https://sdcommunitypower.org/ar/event/clean-air-congreso/
LOCATION:Chicano Park Museum\, 1960 National Ave\, San Diego\, CA\, 92113\, United States
CATEGORIES:Community Events
ATTACH;FMTTYPE=image/jpeg:https://sdcommunitypower.org/wp-content/uploads/2020/12/meeting-notes-banner.jpg
END:VEVENT
END:VCALENDAR