BEGIN:VCALENDAR
VERSION:2.0
PRODID:-//San Diego Community Power - ECPv6.15.17.1//NONSGML v1.0//EN
CALSCALE:GREGORIAN
METHOD:PUBLISH
X-WR-CALNAME:San Diego Community Power
X-ORIGINAL-URL:https://sdcommunitypower.org/zh_hk
X-WR-CALDESC:San Diego Community Power的活动
REFRESH-INTERVAL;VALUE=DURATION:PT1H
X-Robots-Tag:noindex
X-PUBLISHED-TTL:PT1H
BEGIN:VTIMEZONE
TZID:America/Los_Angeles
BEGIN:DAYLIGHT
TZOFFSETFROM:-0800
TZOFFSETTO:-0700
TZNAME:PDT
DTSTART:20220313T100000
END:DAYLIGHT
BEGIN:STANDARD
TZOFFSETFROM:-0700
TZOFFSETTO:-0800
TZNAME:PST
DTSTART:20221106T090000
END:STANDARD
BEGIN:DAYLIGHT
TZOFFSETFROM:-0800
TZOFFSETTO:-0700
TZNAME:PDT
DTSTART:20230312T100000
END:DAYLIGHT
BEGIN:STANDARD
TZOFFSETFROM:-0700
TZOFFSETTO:-0800
TZNAME:PST
DTSTART:20231105T090000
END:STANDARD
BEGIN:DAYLIGHT
TZOFFSETFROM:-0800
TZOFFSETTO:-0700
TZNAME:PDT
DTSTART:20240310T100000
END:DAYLIGHT
BEGIN:STANDARD
TZOFFSETFROM:-0700
TZOFFSETTO:-0800
TZNAME:PST
DTSTART:20241103T090000
END:STANDARD
END:VTIMEZONE
BEGIN:VEVENT
DTSTART;TZID=America/Los_Angeles:20230608T150000
DTEND;TZID=America/Los_Angeles:20230608T170000
DTSTAMP:20260419T084019
CREATED:20230504T213938Z
LAST-MODIFIED:20230907T182428Z
UID:5695-1686236400-1686243600@sdcommunitypower.org
SUMMARY:San Diego Community Power Finance and Risk Management Committee Meeting
DESCRIPTION:The Finance and Risk Management Committee (FRMC) is a standing committee of the SDCP Board whose purpose\, as stated in section 5.10.2 of the SDCP’s JPA Agreement\, is to provide input and oversight on matters related to the agency’s funding plan\, its fiscal year budgets\, financial policies and procedures\, risk management policies and procedures\, and other responsibilities as may be directed by the Board. In January 2023\, Directors John McCann\, Paloma Aguirre and Colin Parent were appointed to serve on the FRMC Committee. For the 2023 calendar year\, the FRMC is expected to meet every second Thursday of the month at 3 pm. \nSDCP FRMC meetings are generally held in person for the FRMC and members of the public.  As a convenience to the public\, SDCP also provides a call-in option and Internet-based option for members of the public to virtually observe and provide public comments at its meetings.  Please note that\, in the event of a technical issue causing a disruption in the call-in option or Internet-based option\, the meeting will continue unless otherwise required by law\, such as when a committee member is attending the meeting remotely pursuant to certain provisions of the Brown Act.
URL:https://sdcommunitypower.org/zh_hk/event/san-diego-community-power-finance-and-risk-management-committee/
LOCATION:City of San Diego Metropolitan Operations Complex (MOC II) Auditorium\, 9192 Topaz Way\, San Diego\, CA\, 92123\, United States
CATEGORIES:Public Meetings
ATTACH;FMTTYPE=image/jpeg:https://sdcommunitypower.org/wp-content/uploads/2020/12/meeting-notes-banner.jpg
END:VEVENT
END:VCALENDAR