BEGIN:VCALENDAR
VERSION:2.0
PRODID:-//San Diego Community Power - ECPv6.15.20//NONSGML v1.0//EN
CALSCALE:GREGORIAN
METHOD:PUBLISH
X-WR-CALNAME:San Diego Community Power
X-ORIGINAL-URL:https://sdcommunitypower.org/zh_hk
X-WR-CALDESC:San Diego Community Power的活动
REFRESH-INTERVAL;VALUE=DURATION:PT1H
X-Robots-Tag:noindex
X-PUBLISHED-TTL:PT1H
BEGIN:VTIMEZONE
TZID:America/Los_Angeles
BEGIN:DAYLIGHT
TZOFFSETFROM:-0800
TZOFFSETTO:-0700
TZNAME:PDT
DTSTART:20220313T100000
END:DAYLIGHT
BEGIN:STANDARD
TZOFFSETFROM:-0700
TZOFFSETTO:-0800
TZNAME:PST
DTSTART:20221106T090000
END:STANDARD
BEGIN:DAYLIGHT
TZOFFSETFROM:-0800
TZOFFSETTO:-0700
TZNAME:PDT
DTSTART:20230312T100000
END:DAYLIGHT
BEGIN:STANDARD
TZOFFSETFROM:-0700
TZOFFSETTO:-0800
TZNAME:PST
DTSTART:20231105T090000
END:STANDARD
BEGIN:DAYLIGHT
TZOFFSETFROM:-0800
TZOFFSETTO:-0700
TZNAME:PDT
DTSTART:20240310T100000
END:DAYLIGHT
BEGIN:STANDARD
TZOFFSETFROM:-0700
TZOFFSETTO:-0800
TZNAME:PST
DTSTART:20241103T090000
END:STANDARD
END:VTIMEZONE
BEGIN:VEVENT
DTSTART;TZID=America/Los_Angeles:20230422T100000
DTEND;TZID=America/Los_Angeles:20230422T130000
DTSTAMP:20260424T090932
CREATED:20230322T002212Z
LAST-MODIFIED:20230322T002558Z
UID:5415-1682157600-1682168400@sdcommunitypower.org
SUMMARY:City of La Mesa\, Earth Day Festival
DESCRIPTION:Come celebrate Earth Day! Festivities will take place at MacArthur Park\, 4900 Memorial Drive\, from 10:00 AM – 1:00 PM. There will be a variety of activities for all ages to learn to care for\, sustain and appreciate the planet! \nThe event will have bicycle activities\, helmet giveaways\, Fix-It-Clinic\, Kids Zone\, vendors\, and more! You can also participate in painting tiles to later be installed by the playground at Clooier Park. \nIf you have any questions or would like to be a vendor\, please email friends@lamesaparks.org. \n  \n 
URL:https://sdcommunitypower.org/zh_hk/event/la-mesa-earth-day-festival/
LOCATION:UC San Diego Park and Market\, 1100 Market Street\, San Diego\, CA\, 92101\, United States
CATEGORIES:Community Events
ATTACH;FMTTYPE=image/png:https://sdcommunitypower.org/wp-content/uploads/2023/03/12.png
END:VEVENT
END:VCALENDAR